BEGIN:VCALENDAR
VERSION:2.0
PRODID:-//wp-events-plugin.com//7.2.3.1//EN
TZID:Europe/Berlin
X-WR-TIMEZONE:Europe/Berlin
BEGIN:VEVENT
UID:111@schrecksbach.info
DTSTART;TZID=Europe/Berlin:20250614T180000
DTEND;TZID=Europe/Berlin:20250614T235900
DTSTAMP:20250509T161302Z
URL:https://www.schrecksbach.info/events/weinfest-chor-mundwerk-festplatz-
 roellshausen/
SUMMARY:Weinfest  Chor Mundwerk\, Festplatz Röllshausen
DESCRIPTION:
CATEGORIES:Allgemeine Veranstaltungen
END:VEVENT
BEGIN:VTIMEZONE
TZID:Europe/Berlin
X-LIC-LOCATION:Europe/Berlin
BEGIN:DAYLIGHT
DTSTART:20250330T030000
TZOFFSETFROM:+0100
TZOFFSETTO:+0200
TZNAME:CEST
END:DAYLIGHT
END:VTIMEZONE
END:VCALENDAR