BEGIN:VCALENDAR
VERSION:2.0
PRODID:-//wp-events-plugin.com//7.2.3.1//EN
TZID:Europe/Berlin
X-WR-TIMEZONE:Europe/Berlin
BEGIN:VEVENT
UID:106@schrecksbach.info
DTSTART;TZID=Europe/Berlin;VALUE=DATE:20251225
DTEND;TZID=Europe/Berlin;VALUE=DATE:20251226
DTSTAMP:20250509T161542Z
URL:https://www.schrecksbach.info/events/weihnachtstanz-in-roellshausen/
SUMMARY:Weihnachtstanz in Röllshausen
DESCRIPTION:
CATEGORIES:Allgemeine Veranstaltungen
END:VEVENT
BEGIN:VTIMEZONE
TZID:Europe/Berlin
X-LIC-LOCATION:Europe/Berlin
BEGIN:STANDARD
DTSTART:20251026T020000
TZOFFSETFROM:+0200
TZOFFSETTO:+0100
TZNAME:CET
END:STANDARD
END:VTIMEZONE
END:VCALENDAR