BEGIN:VCALENDAR
VERSION:2.0
PRODID:-//wp-events-plugin.com//7.2.3.1//EN
TZID:Europe/Berlin
X-WR-TIMEZONE:Europe/Berlin
BEGIN:VEVENT
UID:114@schrecksbach.info
DTSTART;TZID=Europe/Berlin;VALUE=DATE:20250615
DTEND;TZID=Europe/Berlin;VALUE=DATE:20250616
DTSTAMP:20250628T090445Z
URL:https://www.schrecksbach.info/events/wandertag-mit-dem-verschoenerungs
 verein-holzburg-e-v/
SUMMARY:Wandertag mit dem Verschönerungsverein Holzburg e.V.
DESCRIPTION:Wandertag für Groß und Klein\n9.30 Uhr Treffen/Start am Dorfg
 emeinschaftshaus Holzburg um gemeinsam eine abwechslungsreiche Strecke von
  ca. 5\,5 km zu erwandern. Danach erwartet die Wanderer und Nichtwanderer 
 am Mehrzweckgebäude am Sportplatz Essen und Trinken.\nAb 13.00 Uhr gibt e
 s verschiedene Spiele für die kleinen Gäste und auch für die großen is
 t etwas vorbereitet.\nAb 14.00 Uhr wird das Kaffeebuffet mit selbstgebacke
 nem Kuchen eröffnet.\nAuf Euer Kommen freut sich der Verschönerungsverei
 n Holzburg!\n&nbsp\;
CATEGORIES:Freizeit
END:VEVENT
BEGIN:VTIMEZONE
TZID:Europe/Berlin
X-LIC-LOCATION:Europe/Berlin
BEGIN:DAYLIGHT
DTSTART:20250330T030000
TZOFFSETFROM:+0100
TZOFFSETTO:+0200
TZNAME:CEST
END:DAYLIGHT
END:VTIMEZONE
END:VCALENDAR