BEGIN:VCALENDAR
VERSION:2.0
PRODID:-//wp-events-plugin.com//7.2.3.1//EN
TZID:Europe/Berlin
X-WR-TIMEZONE:Europe/Berlin
BEGIN:VEVENT
UID:44@schrecksbach.info
DTSTART;TZID=Europe/Berlin:20250427T140000
DTEND;TZID=Europe/Berlin:20250601T140000
DTSTAMP:20250217T061741Z
URL:https://www.schrecksbach.info/events/von-der-natur-des-waldes-fotoauss
 tellung/
SUMMARY:\,\,Von der Natur des Waldes"\, Fotoausstellung
DESCRIPTION:Werner Thuleweit und die Fotofreunde Neukirchen e.V.\nEröffnun
 g: 14 Uhr in der Heimatstube des Schwälmer Dorfmuseums Holzburg 
CATEGORIES:Allgemeine Veranstaltungen
END:VEVENT
BEGIN:VTIMEZONE
TZID:Europe/Berlin
X-LIC-LOCATION:Europe/Berlin
BEGIN:DAYLIGHT
DTSTART:20250330T030000
TZOFFSETFROM:+0100
TZOFFSETTO:+0200
TZNAME:CEST
END:DAYLIGHT
END:VTIMEZONE
END:VCALENDAR