BEGIN:VCALENDAR
VERSION:2.0
PRODID:-//wp-events-plugin.com//7.2.3.1//EN
TZID:Europe/Berlin
X-WR-TIMEZONE:Europe/Berlin
BEGIN:VEVENT
UID:177@schrecksbach.info
DTSTART;TZID=Europe/Berlin:20261009T190000
DTEND;TZID=Europe/Berlin:20261009T190000
DTSTAMP:20260416T163021Z
URL:https://www.schrecksbach.info/events/vfb-schrecksbach-oktoberfest/
SUMMARY:VfB Schrecksbach Oktoberfest
DESCRIPTION:Am\n Freitag\, 09.10.2026 ab 19:00 Uhr\nveranstaltet der VfB Sc
 hrecksbach 1921 e. V.\n wieder sein traditionelles Oktoberfest im Sporthei
 m des Metzenberg-Stadion \nwo ein jeder herzlich eingeladen ist.\nMit orig
 inal bayrischen Spezialitäten und einem guten Oktoberfestbier\, soll es e
 in bunter Abend in                               gemütlic
 her Runde mit Sportkameraden/innen und Freunden werden\,            
                     die gerne in ihrer bayrischen Tracht das Fes
 t noch schöner machen.\n&nbsp\;
CATEGORIES:Allgemeine Veranstaltungen
END:VEVENT
BEGIN:VTIMEZONE
TZID:Europe/Berlin
X-LIC-LOCATION:Europe/Berlin
BEGIN:DAYLIGHT
DTSTART:20260329T030000
TZOFFSETFROM:+0100
TZOFFSETTO:+0200
TZNAME:CEST
END:DAYLIGHT
END:VTIMEZONE
END:VCALENDAR