BEGIN:VCALENDAR
VERSION:2.0
PRODID:-//wp-events-plugin.com//7.2.3.1//EN
TZID:Europe/Berlin
X-WR-TIMEZONE:Europe/Berlin
BEGIN:VEVENT
UID:81@schrecksbach.info
DTSTART;TZID=Europe/Berlin;VALUE=DATE:20250219
DTEND;TZID=Europe/Berlin;VALUE=DATE:20250221
DTSTAMP:20250204T190601Z
URL:https://www.schrecksbach.info/events/vfb-fasching/
SUMMARY:VfB Fasching
DESCRIPTION:
CATEGORIES:Allgemeine Veranstaltungen
END:VEVENT
BEGIN:VTIMEZONE
TZID:Europe/Berlin
X-LIC-LOCATION:Europe/Berlin
BEGIN:STANDARD
DTSTART:20241027T020000
TZOFFSETFROM:+0200
TZOFFSETTO:+0100
TZNAME:CET
END:STANDARD
END:VTIMEZONE
END:VCALENDAR