BEGIN:VCALENDAR
VERSION:2.0
PRODID:-//wp-events-plugin.com//7.2.3.1//EN
TZID:Europe/Berlin
X-WR-TIMEZONE:Europe/Berlin
BEGIN:VEVENT
UID:146@schrecksbach.info
DTSTART;TZID=Europe/Berlin:20260718T120000
DTEND;TZID=Europe/Berlin:20260718T180000
DTSTAMP:20260115T151553Z
URL:https://www.schrecksbach.info/events/trial-kinder-mx-moto-cross-traini
 ng-motorsportclub-schrecksbach-mcs-7/
SUMMARY:Trial & Kinder MX & Moto Cross Training - Motorsportclub Schrecksba
 ch (MCS)
DESCRIPTION:Samstag\, 18.07.2026\n\n• 12:00- 14:30 Uhr  - Trial &amp\; K
 inder MX bis 65 ccm\n• 15:00- 18:00 Uhr -  Moto Cross Training
CATEGORIES:Allgemeine Veranstaltungen,Sport
END:VEVENT
BEGIN:VTIMEZONE
TZID:Europe/Berlin
X-LIC-LOCATION:Europe/Berlin
BEGIN:DAYLIGHT
DTSTART:20260329T030000
TZOFFSETFROM:+0100
TZOFFSETTO:+0200
TZNAME:CEST
END:DAYLIGHT
END:VTIMEZONE
END:VCALENDAR