BEGIN:VCALENDAR
VERSION:2.0
PRODID:-//wp-events-plugin.com//7.2.3.1//EN
TZID:Europe/Berlin
X-WR-TIMEZONE:Europe/Berlin
BEGIN:VEVENT
UID:151@schrecksbach.info
DTSTART;TZID=Europe/Berlin:20261031T120000
DTEND;TZID=Europe/Berlin:20261031T180000
DTSTAMP:20260115T151742Z
URL:https://www.schrecksbach.info/events/trial-kinder-mx-moto-cross-traini
 ng-motorsportclub-schrecksbach-mcs-12/
SUMMARY:Trial & Kinder MX & Moto Cross Training - Motorsportclub Schrecksba
 ch (MCS)
DESCRIPTION:Samstag\, 31.10.2026\n\n• 12:00- 14:30 Uhr  - Trial &amp\; K
 inder MX bis 65 ccm\n• 15:00- 18:00 Uhr -  Moto Cross Training
CATEGORIES:Allgemeine Veranstaltungen,Sport
END:VEVENT
BEGIN:VTIMEZONE
TZID:Europe/Berlin
X-LIC-LOCATION:Europe/Berlin
BEGIN:STANDARD
DTSTART:20261025T020000
TZOFFSETFROM:+0200
TZOFFSETTO:+0100
TZNAME:CET
END:STANDARD
END:VTIMEZONE
END:VCALENDAR