BEGIN:VCALENDAR
VERSION:2.0
PRODID:-//wp-events-plugin.com//7.2.3.1//EN
TZID:Europe/Berlin
X-WR-TIMEZONE:Europe/Berlin
BEGIN:VEVENT
UID:13@schrecksbach.info
DTSTART;TZID=Europe/Berlin:20250529T120000
DTEND;TZID=Europe/Berlin:20250529T230000
DTSTAMP:20250515T185420Z
URL:https://www.schrecksbach.info/events/tag-der-offenen-tuer/
SUMMARY:Tag der offenen Tür - Freiwillige Feuerwehr Röllshausen
DESCRIPTION:Beim Tag der offenen Tür erwartet die Besucher Einblicke in di
 e Fahrzeuge und Geräte der Freiwilligen Feuerwehr Röllshausen.\n\n 	Kind
 erspiele und eine Hüpfburg\n 	Kaffee\, Kuchen\, Würstchen und gekühlte 
 Getränke.\n 	Wir freuen uns auf Euren Besuch.\n
CATEGORIES:Freizeit
END:VEVENT
BEGIN:VTIMEZONE
TZID:Europe/Berlin
X-LIC-LOCATION:Europe/Berlin
BEGIN:DAYLIGHT
DTSTART:20250330T030000
TZOFFSETFROM:+0100
TZOFFSETTO:+0200
TZNAME:CEST
END:DAYLIGHT
END:VTIMEZONE
END:VCALENDAR