BEGIN:VCALENDAR
VERSION:2.0
PRODID:-//wp-events-plugin.com//7.2.3.1//EN
TZID:Europe/Berlin
X-WR-TIMEZONE:Europe/Berlin
BEGIN:VEVENT
UID:131@schrecksbach.info
DTSTART;TZID=Europe/Berlin:20260906T000000
DTEND;TZID=Europe/Berlin:20260906T000000
DTSTAMP:20260113T074632Z
URL:https://www.schrecksbach.info/events/schuetzenfest-schuetzenvereins-ro
 ellshausen-2/
SUMMARY:Schützenfest - Schützenvereins Röllshausen 2. Tag
DESCRIPTION:Vom 05.09. – 06.09.2026 findet das Schützenfest des Schütz
 envereins Röllshausen statt.
CATEGORIES:Allgemeine Veranstaltungen
END:VEVENT
BEGIN:VTIMEZONE
TZID:Europe/Berlin
X-LIC-LOCATION:Europe/Berlin
BEGIN:DAYLIGHT
DTSTART:20260329T030000
TZOFFSETFROM:+0100
TZOFFSETTO:+0200
TZNAME:CEST
END:DAYLIGHT
END:VTIMEZONE
END:VCALENDAR