BEGIN:VCALENDAR
VERSION:2.0
PRODID:-//wp-events-plugin.com//7.2.3.1//EN
TZID:Europe/Berlin
X-WR-TIMEZONE:Europe/Berlin
BEGIN:VEVENT
UID:139@schrecksbach.info
DTSTART;TZID=Europe/Berlin:20260411T093000
DTEND;TZID=Europe/Berlin:20260411T163000
DTSTAMP:20260115T151227Z
URL:https://www.schrecksbach.info/events/saisoneroeffnung-2026-motorsportc
 lub-schrecksbach-mcs/
SUMMARY:Saisoneröffnung 2026 - Motorsportclub Schrecksbach (MCS)
DESCRIPTION:11.04. Samstag\, Saisoneröffnung 2026\noffenes Moto Cross Trai
 ning aller Klassen auf der WM Strecke von 09:30 – 16:30 Uhr
CATEGORIES:Allgemeine Veranstaltungen,Sport
END:VEVENT
BEGIN:VTIMEZONE
TZID:Europe/Berlin
X-LIC-LOCATION:Europe/Berlin
BEGIN:DAYLIGHT
DTSTART:20260329T030000
TZOFFSETFROM:+0100
TZOFFSETTO:+0200
TZNAME:CEST
END:DAYLIGHT
END:VTIMEZONE
END:VCALENDAR