BEGIN:VCALENDAR
VERSION:2.0
PRODID:-//wp-events-plugin.com//7.2.3.1//EN
TZID:Europe/Berlin
X-WR-TIMEZONE:Europe/Berlin
BEGIN:VEVENT
UID:165@schrecksbach.info
DTSTART;TZID=Europe/Berlin;VALUE=DATE:20260321
DTEND;TZID=Europe/Berlin;VALUE=DATE:20260322
DTSTAMP:20260306T123421Z
URL:https://www.schrecksbach.info/events/mylord-80er-90er-party-3/
SUMMARY:Mylord 80er/90er Party
DESCRIPTION:Die Burschenschaft Schrecksbach lädt ein!Mit Euch zusammen fei
 ern wir zu den Top-Hits der 80er und 90er in der legendären Location aus 
 der damaligen Zeit: dem Mylord in Schrecksbach Für das leibliche Wohl is
 t bestens gesorgt und wir freuen uns auf Euren Besuch!\n
CATEGORIES:Freizeit
END:VEVENT
BEGIN:VTIMEZONE
TZID:Europe/Berlin
X-LIC-LOCATION:Europe/Berlin
BEGIN:STANDARD
DTSTART:20251026T020000
TZOFFSETFROM:+0200
TZOFFSETTO:+0100
TZNAME:CET
END:STANDARD
END:VTIMEZONE
END:VCALENDAR