BEGIN:VCALENDAR
VERSION:2.0
PRODID:-//wp-events-plugin.com//7.2.3.1//EN
TZID:Europe/Berlin
X-WR-TIMEZONE:Europe/Berlin
BEGIN:VEVENT
UID:140@schrecksbach.info
DTSTART;TZID=Europe/Berlin:20260604T093000
DTEND;TZID=Europe/Berlin:20260604T093000
DTSTAMP:20260115T150707Z
URL:https://www.schrecksbach.info/events/motorradrundfahrt-fuer-alle-aspha
 ltfreunde-motorsportclub-schrecksbach-mcs/
SUMMARY:Motorradrundfahrt für alle Asphaltfreunde - Motorsportclub Schreck
 sbach (MCS)
DESCRIPTION:04.06. Donnerstag Fronleichnam: Motorradrundfahrt für alle Asp
 haltfreunde\n( Abfahrt 9:30 Uhr  Clubhaus MCS )
CATEGORIES:Allgemeine Veranstaltungen,Sport
END:VEVENT
BEGIN:VTIMEZONE
TZID:Europe/Berlin
X-LIC-LOCATION:Europe/Berlin
BEGIN:DAYLIGHT
DTSTART:20260329T030000
TZOFFSETFROM:+0100
TZOFFSETTO:+0200
TZNAME:CEST
END:DAYLIGHT
END:VTIMEZONE
END:VCALENDAR