BEGIN:VCALENDAR
VERSION:2.0
PRODID:-//wp-events-plugin.com//7.2.3.1//EN
TZID:Europe/Berlin
X-WR-TIMEZONE:Europe/Berlin
BEGIN:VEVENT
UID:143@schrecksbach.info
DTSTART;TZID=Europe/Berlin:20260613T093000
DTEND;TZID=Europe/Berlin:20260613T163000
DTSTAMP:20260115T151033Z
URL:https://www.schrecksbach.info/events/moto-cross-training-fuer-alle-kla
 ssen-motorsportclub-schrecksbach-mcs/
SUMMARY:Moto Cross Training für alle Klassen - Motorsportclub Schrecksbach
  (MCS)
DESCRIPTION:Samstag\, 13.06.2026 - 9:30- 16:30 Uhr\nMoto Cross Training fü
 r alle Klassen kompletter WM - Kurs offen
CATEGORIES:Allgemeine Veranstaltungen,Sport
END:VEVENT
BEGIN:VTIMEZONE
TZID:Europe/Berlin
X-LIC-LOCATION:Europe/Berlin
BEGIN:DAYLIGHT
DTSTART:20260329T030000
TZOFFSETFROM:+0100
TZOFFSETTO:+0200
TZNAME:CEST
END:DAYLIGHT
END:VTIMEZONE
END:VCALENDAR