BEGIN:VCALENDAR
VERSION:2.0
PRODID:-//wp-events-plugin.com//7.2.3.1//EN
TZID:Europe/Berlin
X-WR-TIMEZONE:Europe/Berlin
BEGIN:VEVENT
UID:6@schrecksbach.info
DTSTART;TZID=Europe/Berlin;VALUE=DATE:20251023
DTEND;TZID=Europe/Berlin;VALUE=DATE:20251027
DTSTAMP:20241120T073959Z
URL:https://www.schrecksbach.info/events/kirmes-schrecksbach/
SUMMARY:Kirmes Schrecksbach
DESCRIPTION:Eure Euphorie ist gerechtfertigt!\nDas Kirmesjahr 2025 geht auf
  die Zielgerade und zum Ende hin steht wie immer die Kirmes in Schrecksbac
 h auf dem Fahrplan.\nIn Schrecksbach wird wieder "Fritzchen\, freu' dich!"
  getanzt.\nVom 23.10 - 26.10.2024 erwacht Schrecksbach aus dem Vorkirmessc
 hlaf und verwandelt sich für vier Tage in das Nonplusultra der Unterhaltu
 ng im südlichen Teil des Schwalm-Eder-Kreises.\nWir freuen uns auf Euer e
 rscheinen.
CATEGORIES:Allgemeine Veranstaltungen
END:VEVENT
BEGIN:VTIMEZONE
TZID:Europe/Berlin
X-LIC-LOCATION:Europe/Berlin
BEGIN:DAYLIGHT
DTSTART:20250330T030000
TZOFFSETFROM:+0100
TZOFFSETTO:+0200
TZNAME:CEST
END:DAYLIGHT
BEGIN:STANDARD
DTSTART:20251026T020000
TZOFFSETFROM:+0200
TZOFFSETTO:+0100
TZNAME:CET
END:STANDARD
END:VTIMEZONE
END:VCALENDAR