BEGIN:VCALENDAR
VERSION:2.0
PRODID:-//wp-events-plugin.com//7.2.3.1//EN
TZID:Europe/Berlin
X-WR-TIMEZONE:Europe/Berlin
BEGIN:VEVENT
UID:59@schrecksbach.info
DTSTART;TZID=Europe/Berlin:20251003T200000
DTEND;TZID=Europe/Berlin:20251005T200000
DTSTAMP:20250628T090658Z
URL:https://www.schrecksbach.info/events/kirmes-roellshausen/
SUMMARY:Kirmes Röllshausen
DESCRIPTION:Die Burschenschaft Röllshausen lädt recht herzlich zur Kirmes
  ein.\nTraditionell findet unsere Kirmes am Erntedankwochenende vom 03.10.
 2025- 05.10.2025 im DGH statt.Ganz herzlich laden wir Euch als Burschensch
 aft Röllshausen ein\, um mit uns ein unvergessliches Wochenende zu erlebe
 n.Wie gewohnt gibt es Schwalmbräu vom Feinsten &amp\; Weizen zum Heizen\n
 Unser diesjähriges Programm für Euch lautet wie folgt:\nFreitag\, den 03
 .10.2025:ab 20 Uhr Tanzabend mit den Silverboys @silver_boys_band\nSamstag
 \, den 04.10.2025:ab 10 Uhr Ständchen spielen für das Dorf\nab 15:30Uhr 
 Kinderkirmes\nab 20 Uhr Burschenschaftstreffen\nSonntag\, den 05.10.2025: 
 ab 11 Uhr Frühschoppen mit Blech.Quadrat \nAuf Euer kommen freut sich di
 e Burschenschaft Röllshausen
CATEGORIES:Allgemeine Veranstaltungen
END:VEVENT
BEGIN:VTIMEZONE
TZID:Europe/Berlin
X-LIC-LOCATION:Europe/Berlin
BEGIN:DAYLIGHT
DTSTART:20250330T030000
TZOFFSETFROM:+0100
TZOFFSETTO:+0200
TZNAME:CEST
END:DAYLIGHT
END:VTIMEZONE
END:VCALENDAR