BEGIN:VCALENDAR
VERSION:2.0
PRODID:-//wp-events-plugin.com//7.2.3.1//EN
TZID:Europe/Berlin
X-WR-TIMEZONE:Europe/Berlin
BEGIN:VEVENT
UID:105@schrecksbach.info
DTSTART;TZID=Europe/Berlin;VALUE=DATE:20251003
DTEND;TZID=Europe/Berlin;VALUE=DATE:20251006
DTSTAMP:20250509T161439Z
URL:https://www.schrecksbach.info/events/kirmes-in-roellshausen/
SUMMARY:Kirmes in Röllshausen
DESCRIPTION:
CATEGORIES:Allgemeine Veranstaltungen
END:VEVENT
BEGIN:VTIMEZONE
TZID:Europe/Berlin
X-LIC-LOCATION:Europe/Berlin
BEGIN:DAYLIGHT
DTSTART:20250330T030000
TZOFFSETFROM:+0100
TZOFFSETTO:+0200
TZNAME:CEST
END:DAYLIGHT
END:VTIMEZONE
END:VCALENDAR