BEGIN:VCALENDAR
VERSION:2.0
PRODID:-//wp-events-plugin.com//7.2.3.1//EN
TZID:Europe/Berlin
X-WR-TIMEZONE:Europe/Berlin
BEGIN:VEVENT
UID:142@schrecksbach.info
DTSTART;TZID=Europe/Berlin:20260607T000000
DTEND;TZID=Europe/Berlin:20260607T000000
DTSTAMP:20260115T150905Z
URL:https://www.schrecksbach.info/events/jugendlehrgang-motorsportclub-sch
 recksbach-mcs-2/
SUMMARY:Jugendlehrgang - Motorsportclub Schrecksbach (MCS)
DESCRIPTION:06.06.–07.06.\nJugendlehrgang mit professionellen Trainern
CATEGORIES:Allgemeine Veranstaltungen,Sport
END:VEVENT
BEGIN:VTIMEZONE
TZID:Europe/Berlin
X-LIC-LOCATION:Europe/Berlin
BEGIN:DAYLIGHT
DTSTART:20260329T030000
TZOFFSETFROM:+0100
TZOFFSETTO:+0200
TZNAME:CEST
END:DAYLIGHT
END:VTIMEZONE
END:VCALENDAR