BEGIN:VCALENDAR
VERSION:2.0
PRODID:-//wp-events-plugin.com//7.2.3.1//EN
TZID:Europe/Berlin
X-WR-TIMEZONE:Europe/Berlin
BEGIN:VEVENT
UID:123@schrecksbach.info
DTSTART;TZID=Europe/Berlin:20260220T183000
DTEND;TZID=Europe/Berlin:20260220T220000
DTSTAMP:20260105T164514Z
URL:https://www.schrecksbach.info/events/jhv-reit-und-fahrverein-schrecksb
 ach-e-v/
SUMMARY:JHV des Reit -und Fahrverein Schrecksbach e.V.
DESCRIPTION:Jahreshauptversammlung des Reit -und Fahrverein Schrecksbach e
 .V.\nab 18:30 Uhr im Reiterstübchen
CATEGORIES:Allgemeine Veranstaltungen
END:VEVENT
BEGIN:VTIMEZONE
TZID:Europe/Berlin
X-LIC-LOCATION:Europe/Berlin
BEGIN:STANDARD
DTSTART:20251026T020000
TZOFFSETFROM:+0200
TZOFFSETTO:+0100
TZNAME:CET
END:STANDARD
END:VTIMEZONE
END:VCALENDAR