BEGIN:VCALENDAR
VERSION:2.0
PRODID:-//wp-events-plugin.com//7.2.3.1//EN
TZID:Europe/Berlin
X-WR-TIMEZONE:Europe/Berlin
BEGIN:VEVENT
UID:96@schrecksbach.info
DTSTART;TZID=Europe/Berlin:20250310T190000
DTEND;TZID=Europe/Berlin:20250310T200000
DTSTAMP:20250217T061630Z
URL:https://www.schrecksbach.info/events/jhv-foerderverein-der-grundschule
 -am-metzenberg/
SUMMARY:JHV Förderverein der Grundschule am Metzenberg
DESCRIPTION:Treffpunkt: Grundschule Schrecksbach 
CATEGORIES:Allgemeine Veranstaltungen
END:VEVENT
BEGIN:VTIMEZONE
TZID:Europe/Berlin
X-LIC-LOCATION:Europe/Berlin
BEGIN:STANDARD
DTSTART:20241027T020000
TZOFFSETFROM:+0200
TZOFFSETTO:+0100
TZNAME:CET
END:STANDARD
END:VTIMEZONE
END:VCALENDAR