BEGIN:VCALENDAR
VERSION:2.0
PRODID:-//wp-events-plugin.com//7.2.3.1//EN
TZID:Europe/Berlin
X-WR-TIMEZONE:Europe/Berlin
BEGIN:VEVENT
UID:78@schrecksbach.info
DTSTART;TZID=Europe/Berlin:20251121T190000
DTEND;TZID=Europe/Berlin:20251121T230000
DTSTAMP:20250628T090802Z
URL:https://www.schrecksbach.info/events/jahreshauptversammlung-5/
SUMMARY:Jahreshauptversammlung
DESCRIPTION:Jahreshauptversammlung der Rotkäppchen Trachtengruppe Schrecks
 bach im MGC
CATEGORIES:Allgemeine Veranstaltungen
END:VEVENT
BEGIN:VTIMEZONE
TZID:Europe/Berlin
X-LIC-LOCATION:Europe/Berlin
BEGIN:STANDARD
DTSTART:20251026T020000
TZOFFSETFROM:+0200
TZOFFSETTO:+0100
TZNAME:CET
END:STANDARD
END:VTIMEZONE
END:VCALENDAR