BEGIN:VCALENDAR
VERSION:2.0
PRODID:-//wp-events-plugin.com//7.2.3.1//EN
TZID:Europe/Berlin
X-WR-TIMEZONE:Europe/Berlin
BEGIN:VEVENT
UID:113@schrecksbach.info
DTSTART;TZID=Europe/Berlin;VALUE=DATE:20250529
DTEND;TZID=Europe/Berlin;VALUE=DATE:20250530
DTSTAMP:20250515T185252Z
URL:https://www.schrecksbach.info/events/himmelfahrtsfruehschoppen-im-schl
 ossgarten-schrecksbach/
SUMMARY:Himmelfahrtsfrühschoppen im Schlossgarten Schrecksbach
DESCRIPTION:Himmelfahrtsfrühschoppen\nam 29.05.2025\nim Schlossgarten Schr
 ecksbach\nab 12.00 Uhr mit Live-Musik\nFür das leibliche Wohl ist gesorgt
 .\nab 15.00 Uhr Kaffee und Kuchen.\n
CATEGORIES:Freizeit
END:VEVENT
BEGIN:VTIMEZONE
TZID:Europe/Berlin
X-LIC-LOCATION:Europe/Berlin
BEGIN:DAYLIGHT
DTSTART:20250330T030000
TZOFFSETFROM:+0100
TZOFFSETTO:+0200
TZNAME:CEST
END:DAYLIGHT
END:VTIMEZONE
END:VCALENDAR