BEGIN:VCALENDAR
VERSION:2.0
PRODID:-//wp-events-plugin.com//7.2.3.1//EN
TZID:Europe/Berlin
X-WR-TIMEZONE:Europe/Berlin
BEGIN:VEVENT
UID:71@schrecksbach.info
DTSTART;TZID=Europe/Berlin:20250131T100000
DTEND;TZID=Europe/Berlin:20250131T130000
DTSTAMP:20250126T191422Z
URL:https://www.schrecksbach.info/events/halbjahreszeugnisse-oeffnunstag/
SUMMARY:Halbjahreszeugnisse Öffnunstag
DESCRIPTION:
CATEGORIES:Allgemeine Veranstaltungen
END:VEVENT
BEGIN:VTIMEZONE
TZID:Europe/Berlin
X-LIC-LOCATION:Europe/Berlin
BEGIN:STANDARD
DTSTART:20241027T020000
TZOFFSETFROM:+0200
TZOFFSETTO:+0100
TZNAME:CET
END:STANDARD
END:VTIMEZONE
END:VCALENDAR