BEGIN:VCALENDAR
VERSION:2.0
PRODID:-//wp-events-plugin.com//7.2.3.1//EN
TZID:Europe/Berlin
X-WR-TIMEZONE:Europe/Berlin
BEGIN:VEVENT
UID:42@schrecksbach.info
DTSTART;TZID=Europe/Berlin:20250822T180000
DTEND;TZID=Europe/Berlin:20250822T180000
DTSTAMP:20250628T090543Z
URL:https://www.schrecksbach.info/events/ein-sommerabend-im-wald-mit-der-a
 ndacht-an-der-gabeleiche/
SUMMARY:Ein Sommerabend im Wald mit der Andacht an der \,\,Gabeleiche"
DESCRIPTION:Spaziergang zur neu gepflanzten \,\,Gabeleiche" an der Grenze d
 er Gemarkung Holzburg/Merzhausen\nIn Kooperation mit der Pfarrgemeinde Sch
 recksbach\, Pfarrer Matthias Müller und der Gemeinde Merzhausen 
CATEGORIES:Allgemeine Veranstaltungen
END:VEVENT
BEGIN:VTIMEZONE
TZID:Europe/Berlin
X-LIC-LOCATION:Europe/Berlin
BEGIN:DAYLIGHT
DTSTART:20250330T030000
TZOFFSETFROM:+0100
TZOFFSETTO:+0200
TZNAME:CEST
END:DAYLIGHT
END:VTIMEZONE
END:VCALENDAR