BEGIN:VCALENDAR
VERSION:2.0
PRODID:-//wp-events-plugin.com//7.2.3.1//EN
TZID:Europe/Berlin
X-WR-TIMEZONE:Europe/Berlin
BEGIN:VEVENT
UID:46@schrecksbach.info
DTSTART;TZID=Europe/Berlin:20250706T140000
DTEND;TZID=Europe/Berlin:20250831T140000
DTSTAMP:20250509T161324Z
URL:https://www.schrecksbach.info/events/der-holzburger-wald-in-historisch
 en-karten/
SUMMARY:Der Holzburger Wald in historischen Karten
DESCRIPTION:Hans Merle\, Verein für Hessische Geschichte und Landeskunde\,
  Zweigverein Schwalm \nEröffnung: 14 Uhr in der Heimatstube Schwälmer D
 orfmuseum Holzburg 
CATEGORIES:Allgemeine Veranstaltungen
END:VEVENT
BEGIN:VTIMEZONE
TZID:Europe/Berlin
X-LIC-LOCATION:Europe/Berlin
BEGIN:DAYLIGHT
DTSTART:20250330T030000
TZOFFSETFROM:+0100
TZOFFSETTO:+0200
TZNAME:CEST
END:DAYLIGHT
END:VTIMEZONE
END:VCALENDAR