BEGIN:VCALENDAR
VERSION:2.0
PRODID:-//wp-events-plugin.com//7.2.3.1//EN
TZID:Europe/Berlin
X-WR-TIMEZONE:Europe/Berlin
BEGIN:VEVENT
UID:116@schrecksbach.info
DTSTART;TZID=Europe/Berlin;VALUE=DATE:20250809
DTEND;TZID=Europe/Berlin;VALUE=DATE:20250810
DTSTAMP:20250708T183110Z
URL:https://www.schrecksbach.info/events/bier-und-weinabend-beim-schuetzen
 verein-schrecksbach/
SUMMARY:Bier und Weinabend beim Schützenverein Schrecksbach
DESCRIPTION:09.08.2025 Bier und Weinabend beim Schützenverein Schrecksbach
 \, ab 18:00 Uhr am KK-Stand an den Brückenhöfen.
CATEGORIES:Allgemeine Veranstaltungen
END:VEVENT
BEGIN:VTIMEZONE
TZID:Europe/Berlin
X-LIC-LOCATION:Europe/Berlin
BEGIN:DAYLIGHT
DTSTART:20250330T030000
TZOFFSETFROM:+0100
TZOFFSETTO:+0200
TZNAME:CEST
END:DAYLIGHT
END:VTIMEZONE
END:VCALENDAR