BEGIN:VCALENDAR
VERSION:2.0
PRODID:-//wp-events-plugin.com//7.2.3.1//EN
TZID:Europe/Berlin
X-WR-TIMEZONE:Europe/Berlin
BEGIN:VEVENT
UID:55@schrecksbach.info
DTSTART;TZID=Europe/Berlin:20251011T190000
DTEND;TZID=Europe/Berlin:20251011T190000
DTSTAMP:20250509T161459Z
URL:https://www.schrecksbach.info/events/baumsammlungen-arboreten-ihre-ges
 chichte-und-forstwirtschaftliche-nutzung-in-zeiten-des-klimawandels/
SUMMARY:Baumsammlungen (Arboreten) - ihre Geschichte und forstwirtschaftlic
 he Nutzung in Zeiten des Klimawandels
DESCRIPTION:Philipp Ludwig\, Leiter der Abteilung Gärten\, Parks und Denkm
 alpflege\, Hessische Schlösserverwaltung\, Bad Homburg v.d.H. \nVeransta
 ltungsort: Blauer Saal                                  
                                                  
                                          Schwälmer Do
 rfmuseum Holzburg  
CATEGORIES:Allgemeine Veranstaltungen
END:VEVENT
BEGIN:VTIMEZONE
TZID:Europe/Berlin
X-LIC-LOCATION:Europe/Berlin
BEGIN:DAYLIGHT
DTSTART:20250330T030000
TZOFFSETFROM:+0100
TZOFFSETTO:+0200
TZNAME:CEST
END:DAYLIGHT
END:VTIMEZONE
END:VCALENDAR