BEGIN:VCALENDAR
VERSION:2.0
PRODID:-//wp-events-plugin.com//7.2.3.1//EN
TZID:Europe/Berlin
X-WR-TIMEZONE:Europe/Berlin
BEGIN:VEVENT
UID:75@schrecksbach.info
DTSTART;TZID=Europe/Berlin:20250207T180000
DTEND;TZID=Europe/Berlin:20250207T210000
DTSTAMP:20250120T200733Z
URL:https://www.schrecksbach.info/events/1-singstunde-mgv-schrecksbach/
SUMMARY:1. Singstunde MGV Schrecksbach
DESCRIPTION:
CATEGORIES:Allgemeine Veranstaltungen
END:VEVENT
BEGIN:VTIMEZONE
TZID:Europe/Berlin
X-LIC-LOCATION:Europe/Berlin
BEGIN:STANDARD
DTSTART:20241027T020000
TZOFFSETFROM:+0200
TZOFFSETTO:+0100
TZNAME:CET
END:STANDARD
END:VTIMEZONE
END:VCALENDAR