BEGIN:VCALENDAR
VERSION:2.0
PRODID:-//wp-events-plugin.com//7.2.3.1//EN
TZID:Europe/Berlin
X-WR-TIMEZONE:Europe/Berlin
BEGIN:VEVENT
UID:178@schrecksbach.info
DTSTART;TZID=Europe/Berlin;VALUE=DATE:20260419
DTEND;TZID=Europe/Berlin;VALUE=DATE:20260420
DTSTAMP:20260419T043111Z
URL:https://www.schrecksbach.info/events/0jpylo/
SUMMARY:0jpylo
DESCRIPTION:q9rgqi
CATEGORIES:Sport
END:VEVENT
BEGIN:VTIMEZONE
TZID:Europe/Berlin
X-LIC-LOCATION:Europe/Berlin
BEGIN:DAYLIGHT
DTSTART:20260329T030000
TZOFFSETFROM:+0100
TZOFFSETTO:+0200
TZNAME:CEST
END:DAYLIGHT
END:VTIMEZONE
END:VCALENDAR